BEGIN:VCALENDAR
VERSION:2.0
PRODID:-//Zurab Tsereteli - ECPv5.7.0//NONSGML v1.0//EN
CALSCALE:GREGORIAN
METHOD:PUBLISH
X-WR-CALNAME:Zurab Tsereteli
X-ORIGINAL-URL:https://zurabtsereteli.com
X-WR-CALDESC:Events for Zurab Tsereteli
BEGIN:VTIMEZONE
TZID:UTC
BEGIN:STANDARD
TZOFFSETFROM:+0000
TZOFFSETTO:+0000
TZNAME:UTC
DTSTART:20200101T000000
END:STANDARD
END:VTIMEZONE
BEGIN:VEVENT
DTSTART;TZID=UTC:20200116T170000
DTEND;TZID=UTC:20200130T170000
DTSTAMP:20260421T085228
CREATED:20200122T134059Z
LAST-MODIFIED:20200122T134059Z
UID:17973-1579194000-1580403600@zurabtsereteli.com
SUMMARY:Exhibition Opening: 16th January 2020\, Palais des Nations\, Geneva
DESCRIPTION:On 16th January 2020 at 17:00\, Zurab Tsereteli opened his exhibition at the Palais des Nations in Geneva. \nThe artist behind numerous monumentalist compositions and public sculptures in countries all over the world\, as well as smaller-scale sculptures and paintings\, Tsereteli has been able to unite many different genres and techniques in his work. The paintings presented at the exhibition will introduce the audience to one area of the painter’s oeuvre\, which finds its basis in the exploration of humanist ideals and universal values through artistic means. \n \nPhotos courtesy of S. Shagulashvili
URL:https://zurabtsereteli.com/event/exhibition-opening-16th-january-2020-palais-des-nations-geneva/
LOCATION:Palais des Nations\, Geneva\, Switzerland
CATEGORIES:Exhibition
END:VEVENT
END:VCALENDAR